BEGIN:VCALENDAR
VERSION:2.0
PRODID:-//hacksw/handcal//NONSGML v1.0//EN
BEGIN:VEVENT
SUMMARY:Coupe des clubs
UID:2edd92bf-2867-4f55-a198-a50b1eb3d98b
DTSTART:20260408T180000Z
DTEND:20260408T210000Z
LOCATION:Localisation   
CATEGORIES:Sportif
STATUS:
URL;VALUE=URI:https://verriereslebuisson.club.ffbridge.fr/evenements/2026/04/08/coupe-des-clubs-2407599
END:VEVENT
END:VCALENDAR
